BEGIN:VCALENDAR
VERSION:2.0
PRODID:SchoolNow
CALSCALE:GREGORIAN
BEGIN:VEVENT
UID:e7735696-c5d0-11ed-b6ca-0acd76f80fb7
DTSTAMP:20230318T210905Z
SUMMARY:Water Aerobics - Apr. 27th
URL;VALUE=URI:https://www.wildernesslakecdd.org/calendar/3889170/water-aero
 bics-apr-27th
DTSTART:20230427T130000Z
DTEND:20230427T140000Z
END:VEVENT
END:VCALENDAR
