BEGIN:VCALENDAR
VERSION:2.0
PRODID:SchoolNow
CALSCALE:GREGORIAN
BEGIN:VEVENT
UID:e7728fcc-c5d0-11ed-8040-0acd76f80fb7
DTSTAMP:20230318T210839Z
SUMMARY:Water Aerobics - Apr. 26th
URL;VALUE=URI:https://www.wildernesslakecdd.org/calendar/3889169/water-aero
 bics-apr-26th
DTSTART:20230426T130000Z
DTEND:20230426T140000Z
END:VEVENT
END:VCALENDAR
