BEGIN:VCALENDAR
VERSION:2.0
PRODID:SchoolNow
CALSCALE:GREGORIAN
BEGIN:VEVENT
UID:e771c9f2-c5d0-11ed-b1a2-0acd76f80fb7
DTSTAMP:20230318T210814Z
SUMMARY:Water Aerobics - Apr. 25th
URL;VALUE=URI:https://www.wildernesslakecdd.org/calendar/3889168/water-aero
 bics-apr-25th
DTSTART:20230425T130000Z
DTEND:20230425T140000Z
END:VEVENT
END:VCALENDAR
