BEGIN:VCALENDAR
VERSION:2.0
PRODID:SchoolNow
CALSCALE:GREGORIAN
BEGIN:VEVENT
UID:e7707106-c5d0-11ed-b716-0acd76f80fb7
DTSTAMP:20230318T210756Z
SUMMARY:Water Aerobics - Apr. 24th
URL;VALUE=URI:https://www.wildernesslakecdd.org/calendar/3889167/water-aero
 bics-apr-24th
DTSTART:20230424T130000Z
DTEND:20230424T140000Z
END:VEVENT
END:VCALENDAR
