BEGIN:VCALENDAR
VERSION:2.0
PRODID:SchoolNow
CALSCALE:GREGORIAN
BEGIN:VEVENT
UID:8462b060-c5d0-11ed-b832-0acd76f80fb7
DTSTAMP:20230318T210634Z
SUMMARY:Water Aerobics - Apr. 21st
URL;VALUE=URI:https://www.wildernesslakecdd.org/calendar/3889166/water-aero
 bics-apr-21st
DTSTART:20230421T130000Z
DTEND:20230421T140000Z
END:VEVENT
END:VCALENDAR
