BEGIN:VCALENDAR
VERSION:2.0
PRODID:SchoolNow
CALSCALE:GREGORIAN
BEGIN:VEVENT
UID:8461f76a-c5d0-11ed-9b08-0acd76f80fb7
DTSTAMP:20230318T210653Z
SUMMARY:Water Aerobics - Apr. 20th
URL;VALUE=URI:https://www.wildernesslakecdd.org/calendar/3889165/water-aero
 bics-apr-20th
DTSTART:20230420T130000Z
DTEND:20230420T140000Z
END:VEVENT
END:VCALENDAR
