BEGIN:VCALENDAR
VERSION:2.0
PRODID:SchoolNow
CALSCALE:GREGORIAN
BEGIN:VEVENT
UID:84615436-c5d0-11ed-a2f1-0acd76f80fb7
DTSTAMP:20230318T210607Z
SUMMARY:Water Aerobics - Apr. 19th
URL;VALUE=URI:https://www.wildernesslakecdd.org/calendar/3889164/water-aero
 bics-apr-19th
DTSTART:20230419T130000Z
DTEND:20230419T140000Z
END:VEVENT
END:VCALENDAR
