BEGIN:VCALENDAR
VERSION:2.0
PRODID:SchoolNow
CALSCALE:GREGORIAN
BEGIN:VEVENT
UID:8460b71a-c5d0-11ed-9d68-0acd76f80fb7
DTSTAMP:20230318T210547Z
SUMMARY:Water Aerobics - Apr. 18th
URL;VALUE=URI:https://www.wildernesslakecdd.org/calendar/3889163/water-aero
 bics-apr-18th
DTSTART:20230418T130000Z
DTEND:20230418T140000Z
END:VEVENT
END:VCALENDAR
