BEGIN:VCALENDAR
VERSION:2.0
PRODID:SchoolNow
CALSCALE:GREGORIAN
BEGIN:VEVENT
UID:845fbdb0-c5d0-11ed-97cb-0acd76f80fb7
DTSTAMP:20230318T210511Z
SUMMARY:Water Aerobics - Apr. 17th
URL;VALUE=URI:https://www.wildernesslakecdd.org/calendar/3889162/water-aero
 bics-apr-17th
DTSTART:20230417T130000Z
DTEND:20230417T140000Z
END:VEVENT
END:VCALENDAR
