BEGIN:VCALENDAR
VERSION:2.0
PRODID:SchoolNow
CALSCALE:GREGORIAN
BEGIN:VEVENT
UID:39f06a4a-c5d0-11ed-a45d-0acd76f80fb7
DTSTAMP:20230318T210417Z
SUMMARY:Water Aerobics - Apr. 14th
URL;VALUE=URI:https://www.wildernesslakecdd.org/calendar/3889161/water-aero
 bics-apr-7th
DTSTART:20230414T130000Z
DTEND:20230414T140000Z
END:VEVENT
END:VCALENDAR
