BEGIN:VCALENDAR
VERSION:2.0
PRODID:SchoolNow
CALSCALE:GREGORIAN
BEGIN:VEVENT
UID:39ef4f20-c5d0-11ed-959d-0acd76f80fb7
DTSTAMP:20230318T210400Z
SUMMARY:Water Aerobics - Apr. 13th
URL;VALUE=URI:https://www.wildernesslakecdd.org/calendar/3889160/water-aero
 bics-apr-13th
DTSTART:20230413T130000Z
DTEND:20230413T140000Z
END:VEVENT
END:VCALENDAR
