BEGIN:VCALENDAR
VERSION:2.0
PRODID:SchoolNow
CALSCALE:GREGORIAN
BEGIN:VEVENT
UID:39ee735c-c5d0-11ed-b0fd-0acd76f80fb7
DTSTAMP:20230318T210337Z
SUMMARY:Water Aerobics - Apr. 12th
URL;VALUE=URI:https://www.wildernesslakecdd.org/calendar/3889159/water-aero
 bics-apr-12th
DTSTART:20230412T130000Z
DTEND:20230412T140000Z
END:VEVENT
END:VCALENDAR
