BEGIN:VCALENDAR
VERSION:2.0
PRODID:SchoolNow
CALSCALE:GREGORIAN
BEGIN:VEVENT
UID:39ed32d0-c5d0-11ed-899a-0acd76f80fb7
DTSTAMP:20230318T210322Z
SUMMARY:Water Aerobics - Apr. 11th
URL;VALUE=URI:https://www.wildernesslakecdd.org/calendar/3889158/water-aero
 bics-apr-11th
DTSTART:20230411T130000Z
DTEND:20230411T140000Z
END:VEVENT
END:VCALENDAR
