BEGIN:VCALENDAR
VERSION:2.0
PRODID:SchoolNow
CALSCALE:GREGORIAN
BEGIN:VEVENT
UID:39eba870-c5d0-11ed-a541-0acd76f80fb7
DTSTAMP:20230318T210308Z
SUMMARY:Water Aerobics - Apr. 10th
URL;VALUE=URI:https://www.wildernesslakecdd.org/calendar/3889157/water-aero
 bics-apr-10th
DTSTART:20230410T130000Z
DTEND:20230410T140000Z
END:VEVENT
END:VCALENDAR
