BEGIN:VCALENDAR
VERSION:2.0
PRODID:SchoolNow
CALSCALE:GREGORIAN
BEGIN:VEVENT
UID:3214db44-c5d0-11ed-878a-0acd76f80fb7
DTSTAMP:20230318T210230Z
SUMMARY:Water Aerobics - Apr. 7th
URL;VALUE=URI:https://www.wildernesslakecdd.org/calendar/3889156/water-aero
 bics-apr-7th
DTSTART:20230407T130000Z
DTEND:20230407T140000Z
END:VEVENT
END:VCALENDAR
