BEGIN:VCALENDAR
VERSION:2.0
PRODID:SchoolNow
CALSCALE:GREGORIAN
BEGIN:VEVENT
UID:2658d79c-c5d0-11ed-9a48-0acd76f80fb7
DTSTAMP:20230318T210210Z
SUMMARY:Water Aerobics - Apr. 6th
URL;VALUE=URI:https://www.wildernesslakecdd.org/calendar/3889155/water-aero
 bics-apr-6th
DTSTART:20230406T130000Z
DTEND:20230406T140000Z
END:VEVENT
END:VCALENDAR
