BEGIN:VCALENDAR
VERSION:2.0
PRODID:SchoolNow
CALSCALE:GREGORIAN
BEGIN:VEVENT
UID:0c982e84-c5d0-11ed-ab6a-0acd76f80fb7
DTSTAMP:20230318T210127Z
SUMMARY:Water Aerobics - Apr. 5th
URL;VALUE=URI:https://www.wildernesslakecdd.org/calendar/3889154/water-aero
 bics-apr-5th
DTSTART:20230405T130000Z
DTEND:20230405T140000Z
END:VEVENT
END:VCALENDAR
