BEGIN:VCALENDAR
VERSION:2.0
PRODID:SchoolNow
CALSCALE:GREGORIAN
BEGIN:VEVENT
UID:fe656eb2-c5cf-11ed-81c3-0acd76f80fb7
DTSTAMP:20230318T210139Z
SUMMARY:Water Aerobics - Apr. 4th
URL;VALUE=URI:https://www.wildernesslakecdd.org/calendar/3889153/water-aero
 bics-apr-4th
DTSTART:20230404T130000Z
DTEND:20230404T140000Z
END:VEVENT
END:VCALENDAR
