BEGIN:VCALENDAR
VERSION:2.0
PRODID:SchoolNow
CALSCALE:GREGORIAN
BEGIN:VEVENT
UID:c823c254-c5cf-11ed-b9d9-0acd76f80fb7
DTSTAMP:20230318T210148Z
SUMMARY:Water Aerobics - Apr. 3rd
URL;VALUE=URI:https://www.wildernesslakecdd.org/calendar/3889152/water-aero
 bics-apr-3rd
DTSTART:20230403T130000Z
DTEND:20230403T140000Z
END:VEVENT
END:VCALENDAR
