BEGIN:VCALENDAR
VERSION:2.0
PRODID:SchoolNow
CALSCALE:GREGORIAN
BEGIN:VEVENT
UID:a66756f8-c5cf-11ed-b6d4-0acd76f80fb7
DTSTAMP:20230318T205835Z
SUMMARY:Comedy - Apr. 1\, 2023
URL;VALUE=URI:https://www.wildernesslakecdd.org/calendar/3889151/comedy-apr
 -1-2023
DTSTART:20230401T224500Z
DTEND:20230402T000000Z
END:VEVENT
END:VCALENDAR
