BEGIN:VCALENDAR
VERSION:2.0
PRODID:SchoolNow
CALSCALE:GREGORIAN
BEGIN:VEVENT
UID:13bdefc8-c369-11ed-9c99-0a7df4f064a5
DTSTAMP:20230315T193918Z
SUMMARY:Blood Drive - Nov. 2023
URL;VALUE=URI:https://www.wildernesslakecdd.org/calendar/3872281/blood-driv
 e-nov-2023
DTSTART:20231111T140000Z
DTEND:20231111T190000Z
END:VEVENT
END:VCALENDAR
