BEGIN:VCALENDAR
VERSION:2.0
PRODID:SchoolNow
CALSCALE:GREGORIAN
BEGIN:VEVENT
UID:04a86b08-c369-11ed-9adb-0a7df4f064a5
DTSTAMP:20230315T193853Z
SUMMARY:Blood Drive - Sept. 2023
URL;VALUE=URI:https://www.wildernesslakecdd.org/calendar/3872280/blood-driv
 e-sept-2023
DTSTART:20230909T130000Z
DTEND:20230909T180000Z
END:VEVENT
END:VCALENDAR
