BEGIN:VCALENDAR
VERSION:2.0
PRODID:SchoolNow
CALSCALE:GREGORIAN
BEGIN:VEVENT
UID:f5ffce48-c368-11ed-90b0-0a7df4f064a5
DTSTAMP:20230319T000951Z
SUMMARY:Blood Drive - May 2023
URL;VALUE=URI:https://www.wildernesslakecdd.org/calendar/3872276/blood-driv
 e-may-2023
DTSTART:20230506T130000Z
DTEND:20230506T140000Z
END:VEVENT
END:VCALENDAR
