BEGIN:VCALENDAR
VERSION:2.0
PRODID:SchoolNow
CALSCALE:GREGORIAN
BEGIN:VEVENT
UID:d49782d2-c368-11ed-b7aa-0a7df4f064a5
DTSTAMP:20230315T193732Z
SUMMARY:Blood Drive - Jul. 2023
URL;VALUE=URI:https://www.wildernesslakecdd.org/calendar/3872275/blood-driv
 e-jul-2023
DTSTART:20230708T130000Z
DTEND:20230708T180000Z
END:VEVENT
END:VCALENDAR
