BEGIN:VCALENDAR
VERSION:2.0
PRODID:SchoolNow
CALSCALE:GREGORIAN
BEGIN:VEVENT
UID:c0fedf8a-c328-11ed-8e03-029fddbb0f07
DTSTAMP:20230315T115852Z
SUMMARY:Special Meeting - Apr. 2023
LOCATION:Wilderness Lake Lodge\, 21320 Wilderness Lake Blvd.\, Land O’ La
 kes\, FL 34637.
URL;VALUE=URI:https://www.wildernesslakecdd.org/calendar/3870652/special-me
 eting-apr-2023
DTSTART:20230403T140000Z
DTEND:20230403T150000Z
END:VEVENT
END:VCALENDAR
