BEGIN:VCALENDAR
VERSION:2.0
PRODID:SchoolNow
CALSCALE:GREGORIAN
BEGIN:VEVENT
UID:387db5f8-bdb2-11ed-959b-028e0f31b50f
DTSTAMP:20230318T230932Z
SUMMARY:CDD Budget Workshop - Apr. 18th
LOCATION:The Preserve at Wilderness Lake Lodge  21320 Wilderness Lake Blvd.
   Land O’ Lakes\, FL 34637
URL;VALUE=URI:https://www.wildernesslakecdd.org/calendar/3834903/cdd-budget
 -workshop-apr-18th
DTSTART:20230418T140000Z
DTEND:20230418T200000Z
END:VEVENT
END:VCALENDAR
