BEGIN:VCALENDAR
VERSION:2.0
PRODID:SchoolNow
CALSCALE:GREGORIAN
BEGIN:VEVENT
UID:f12d1250-b13d-11ed-af69-0eaad636b54f
DTSTAMP:20230220T164511Z
SUMMARY:GYM CLOSED FOR REFRESH  - Feb. 21st
URL;VALUE=URI:https://www.wildernesslakecdd.org/calendar/3759881/gym-closed
 -for-refresh-feb-21st
DTSTART;VALUE=DATE:20230221
DTEND;VALUE=DATE:20230225
END:VEVENT
END:VCALENDAR
