BEGIN:VCALENDAR
VERSION:2.0
PRODID:SchoolNow
CALSCALE:GREGORIAN
BEGIN:VEVENT
UID:c0809276-b13d-11ed-b96b-0eaad636b54f
DTSTAMP:20230220T164449Z
SUMMARY:GYM CLOSED FOR REFRESH  - Feb. 22nd
URL;VALUE=URI:https://www.wildernesslakecdd.org/calendar/3759879/gym-closed
 -for-refresh-feb-22nd
DTSTART;VALUE=DATE:20230222
DTEND;VALUE=DATE:20230226
END:VEVENT
END:VCALENDAR
