BEGIN:VCALENDAR
VERSION:2.0
PRODID:SchoolNow
CALSCALE:GREGORIAN
BEGIN:VEVENT
UID:ded79444-b12f-11ed-954d-025fdb8768e9
DTSTAMP:20230220T164435Z
SUMMARY:GYM CLOSED FOR REFRESH  - Feb. 24th
URL;VALUE=URI:https://www.wildernesslakecdd.org/calendar/3759873/gym-closed
 -for-refresh-feb-24th
DTSTART;VALUE=DATE:20230224
DTEND;VALUE=DATE:20230225
END:VEVENT
END:VCALENDAR
