BEGIN:VCALENDAR
VERSION:2.0
PRODID:SchoolNow
CALSCALE:GREGORIAN
BEGIN:VEVENT
UID:f7eddc08-aee7-11ed-9c95-0e8d70e6034f
DTSTAMP:20230318T212522Z
SUMMARY:Yoga - Apr. 25th - Class 2
URL;VALUE=URI:https://www.wildernesslakecdd.org/calendar/3753837/yoga-apr-2
 5th-class-2
DTSTART:20230425T135500Z
DTEND:20230425T145500Z
END:VEVENT
END:VCALENDAR
