BEGIN:VCALENDAR
VERSION:2.0
PRODID:SchoolNow
CALSCALE:GREGORIAN
BEGIN:VEVENT
UID:ec8f07ce-aee7-11ed-a2c3-0e8d70e6034f
DTSTAMP:20230318T212536Z
SUMMARY:Yoga - Apr. 27th - Class 1
URL;VALUE=URI:https://www.wildernesslakecdd.org/calendar/3753836/yoga-apr-2
 7th-class-1
DTSTART:20230427T124500Z
DTEND:20230427T134500Z
END:VEVENT
END:VCALENDAR
