BEGIN:VCALENDAR
VERSION:2.0
PRODID:SchoolNow
CALSCALE:GREGORIAN
BEGIN:VEVENT
UID:de00c148-aee7-11ed-8430-0e8d70e6034f
DTSTAMP:20230217T172400Z
SUMMARY:Yoga - Mar. 28th - Class 2
URL;VALUE=URI:https://www.wildernesslakecdd.org/calendar/3753835/yoga-mar-2
 8th-class-2
DTSTART:20230328T135500Z
DTEND:20230328T145500Z
END:VEVENT
END:VCALENDAR
