BEGIN:VCALENDAR
VERSION:2.0
PRODID:SchoolNow
CALSCALE:GREGORIAN
BEGIN:VEVENT
UID:d3fa3d3c-aee7-11ed-9c3e-0e8d70e6034f
DTSTAMP:20230217T172343Z
SUMMARY:Yoga - Mar. 28th - Class 1
URL;VALUE=URI:https://www.wildernesslakecdd.org/calendar/3753834/yoga-mar-2
 8th-class-1
DTSTART:20230328T124500Z
DTEND:20230328T134500Z
END:VEVENT
END:VCALENDAR
