BEGIN:VCALENDAR
VERSION:2.0
PRODID:SchoolNow
CALSCALE:GREGORIAN
BEGIN:VEVENT
UID:c3a8ea00-aee7-11ed-bf83-0e8d70e6034f
DTSTAMP:20230217T172316Z
SUMMARY:Yoga - Mar. 23rd - Class 2
URL;VALUE=URI:https://www.wildernesslakecdd.org/calendar/3753833/yoga-mar-2
 3rd-class-2
DTSTART:20230323T135500Z
DTEND:20230323T145500Z
END:VEVENT
END:VCALENDAR
