BEGIN:VCALENDAR
VERSION:2.0
PRODID:SchoolNow
CALSCALE:GREGORIAN
BEGIN:VEVENT
UID:b8c24de8-aee7-11ed-b1a8-0e8d70e6034f
DTSTAMP:20230217T172257Z
SUMMARY:Yoga - Mar. 23rd - Class 1
URL;VALUE=URI:https://www.wildernesslakecdd.org/calendar/3753832/yoga-mar-2
 3rd-class-1
DTSTART:20230323T124500Z
DTEND:20230323T134500Z
END:VEVENT
END:VCALENDAR
