BEGIN:VCALENDAR
VERSION:2.0
PRODID:SchoolNow
CALSCALE:GREGORIAN
BEGIN:VEVENT
UID:a7a81c18-aee7-11ed-af9d-0ee3532cba39
DTSTAMP:20230217T172229Z
SUMMARY:Yoga - Mar. 21st - Class 2
URL;VALUE=URI:https://www.wildernesslakecdd.org/calendar/3753831/yoga-mar-2
 1st-class-2
DTSTART:20230321T135500Z
DTEND:20230321T145500Z
END:VEVENT
END:VCALENDAR
