BEGIN:VCALENDAR
VERSION:2.0
PRODID:SchoolNow
CALSCALE:GREGORIAN
BEGIN:VEVENT
UID:95ebb462-aee7-11ed-bfec-0ee3532cba39
DTSTAMP:20230217T172159Z
SUMMARY:Yoga - Mar. 21st - Class 1
URL;VALUE=URI:https://www.wildernesslakecdd.org/calendar/3753830/yoga-mar-2
 1st-class-1
DTSTART:20230321T124500Z
DTEND:20230321T134500Z
END:VEVENT
END:VCALENDAR
