BEGIN:VCALENDAR
VERSION:2.0
PRODID:SchoolNow
CALSCALE:GREGORIAN
BEGIN:VEVENT
UID:88606194-aee7-11ed-8b6a-0ee3532cba39
DTSTAMP:20230217T172136Z
SUMMARY:Yoga - Mar. 16th - Class 2
URL;VALUE=URI:https://www.wildernesslakecdd.org/calendar/3753829/yoga-mar-1
 6th-class-2
DTSTART:20230316T135500Z
DTEND:20230316T145500Z
END:VEVENT
END:VCALENDAR
