BEGIN:VCALENDAR
VERSION:2.0
PRODID:SchoolNow
CALSCALE:GREGORIAN
BEGIN:VEVENT
UID:7d41a138-aee7-11ed-8f55-0ee3532cba39
DTSTAMP:20230217T172118Z
SUMMARY:Yoga - Mar. 16th - Class 1
URL;VALUE=URI:https://www.wildernesslakecdd.org/calendar/3753828/yoga-mar-1
 6th-class-1
DTSTART:20230316T124500Z
DTEND:20230316T134500Z
END:VEVENT
END:VCALENDAR
