BEGIN:VCALENDAR
VERSION:2.0
PRODID:SchoolNow
CALSCALE:GREGORIAN
BEGIN:VEVENT
UID:712e0954-aee7-11ed-84b1-0ee3532cba39
DTSTAMP:20230217T172057Z
SUMMARY:Yoga - Mar. 14th - Class 2
URL;VALUE=URI:https://www.wildernesslakecdd.org/calendar/3753827/yoga-mar-1
 4th-class-2
DTSTART:20230314T135500Z
DTEND:20230314T145500Z
END:VEVENT
END:VCALENDAR
