BEGIN:VCALENDAR
VERSION:2.0
PRODID:SchoolNow
CALSCALE:GREGORIAN
BEGIN:VEVENT
UID:645026b8-aee7-11ed-a2b5-0ee3532cba39
DTSTAMP:20230217T172036Z
SUMMARY:Yoga - Mar. 14th - Class 1
URL;VALUE=URI:https://www.wildernesslakecdd.org/calendar/3753826/yoga-mar-1
 4th-class-1
DTSTART:20230314T124500Z
DTEND:20230314T134500Z
END:VEVENT
END:VCALENDAR
