BEGIN:VCALENDAR
VERSION:2.0
PRODID:SchoolNow
CALSCALE:GREGORIAN
BEGIN:VEVENT
UID:5948f696-aee7-11ed-ad3f-0ee3532cba39
DTSTAMP:20230217T172017Z
SUMMARY:Yoga - Mar. 9th - Class 2
URL;VALUE=URI:https://www.wildernesslakecdd.org/calendar/3753825/yoga-mar-9
 th-class-2
DTSTART:20230309T145500Z
DTEND:20230309T155500Z
END:VEVENT
END:VCALENDAR
