BEGIN:VCALENDAR
VERSION:2.0
PRODID:SchoolNow
CALSCALE:GREGORIAN
BEGIN:VEVENT
UID:503cb542-aee7-11ed-9e04-0ee3532cba39
DTSTAMP:20230217T172002Z
SUMMARY:Yoga - Mar. 9th - Class 1
URL;VALUE=URI:https://www.wildernesslakecdd.org/calendar/3753824/yoga-mar-9
 th-class-1
DTSTART:20230309T134500Z
DTEND:20230309T144500Z
END:VEVENT
END:VCALENDAR
