BEGIN:VCALENDAR
VERSION:2.0
PRODID:SchoolNow
CALSCALE:GREGORIAN
BEGIN:VEVENT
UID:859ce79e-aee6-11ed-87c2-0ee3532cba39
DTSTAMP:20230217T171613Z
SUMMARY:Yoga - Mar. 2nd - Class 2
URL;VALUE=URI:https://www.wildernesslakecdd.org/calendar/3753821/yoga-mar-2
 nd-class-2
DTSTART:20230302T145500Z
DTEND:20230302T155500Z
END:VEVENT
END:VCALENDAR
