BEGIN:VCALENDAR
VERSION:2.0
PRODID:SchoolNow
CALSCALE:GREGORIAN
BEGIN:VEVENT
UID:4ba9f162-aee6-11ed-89fd-0ee3532cba39
DTSTAMP:20230217T171356Z
SUMMARY:Yoga - Mar. 7th - Class 2
URL;VALUE=URI:https://www.wildernesslakecdd.org/calendar/3753818/yoga-mar-7
 th-class-2
DTSTART:20230307T145500Z
DTEND:20230307T155500Z
END:VEVENT
END:VCALENDAR
