BEGIN:VCALENDAR
VERSION:2.0
PRODID:SchoolNow
CALSCALE:GREGORIAN
BEGIN:VEVENT
UID:37c0ed72-aee6-11ed-bc98-0ee3532cba39
DTSTAMP:20230217T171211Z
SUMMARY:Yoga - Mar. 2nd - Class 1
URL;VALUE=URI:https://www.wildernesslakecdd.org/calendar/3753817/yoga-mar-2
 nd-class-1
DTSTART:20230302T134500Z
DTEND:20230302T144500Z
END:VEVENT
END:VCALENDAR
