BEGIN:VCALENDAR
VERSION:2.0
PRODID:SchoolNow
CALSCALE:GREGORIAN
BEGIN:VEVENT
UID:1cb7663c-aee6-11ed-9789-0ee3532cba39
DTSTAMP:20230217T171126Z
SUMMARY:Arts Class - Mar. 18th
URL;VALUE=URI:https://www.wildernesslakecdd.org/calendar/3753816/arts-class
 -mar-18th
DTSTART:20230318T160000Z
DTEND:20230318T190000Z
END:VEVENT
END:VCALENDAR
