BEGIN:VCALENDAR
VERSION:2.0
PRODID:SchoolNow
CALSCALE:GREGORIAN
BEGIN:VEVENT
UID:fc9a12b4-aee5-11ed-a951-0ee3532cba39
DTSTAMP:20230217T171032Z
SUMMARY:St. Patricks
URL;VALUE=URI:https://www.wildernesslakecdd.org/calendar/3753815/st-patrick
 s
DTSTART:20230317T224500Z
DTEND:20230318T003000Z
END:VEVENT
END:VCALENDAR
