BEGIN:VCALENDAR
VERSION:2.0
PRODID:SchoolNow
CALSCALE:GREGORIAN
BEGIN:VEVENT
UID:d5bb2ad4-aee5-11ed-af79-0ee3532cba39
DTSTAMP:20230217T170927Z
SUMMARY:Spring Break - Mar. 16th
URL;VALUE=URI:https://www.wildernesslakecdd.org/calendar/3753813/spring-bre
 ak-mar-16th
DTSTART:20230316T170000Z
DTEND:20230316T190000Z
END:VEVENT
END:VCALENDAR
