BEGIN:VCALENDAR
VERSION:2.0
PRODID:SchoolNow
CALSCALE:GREGORIAN
BEGIN:VEVENT
UID:bcddcdb4-aee5-11ed-a583-0ee3532cba39
DTSTAMP:20230217T170845Z
SUMMARY:Spring Break - Mar. 14th
URL;VALUE=URI:https://www.wildernesslakecdd.org/calendar/3753811/spring-bre
 ak-mar-14th
DTSTART:20230314T170000Z
DTEND:20230314T190000Z
END:VEVENT
END:VCALENDAR
